Package: NormalyzerDE Version: 1.18.1 Command: /home/biocbuild/bbs-3.17-bioc/R/bin/R CMD build --keep-empty-dirs --no-resave-data NormalyzerDE StartedAt: 2023-10-15 17:41:22 -0400 (Sun, 15 Oct 2023) EndedAt: 2023-10-15 17:43:48 -0400 (Sun, 15 Oct 2023) EllapsedTime: 146.2 seconds RetCode: 0 Status: OK PackageFile: NormalyzerDE_1.18.1.tar.gz PackageFileSize: 1.056 MiB