Package: NormalyzerDE Version: 1.18.1 Command: /Library/Frameworks/R.framework/Resources/bin/R CMD check --install=check:NormalyzerDE.install-out.txt --library=/Library/Frameworks/R.framework/Resources/library --no-vignettes --timings NormalyzerDE_1.18.1.tar.gz StartedAt: 2023-10-16 04:41:53 -0400 (Mon, 16 Oct 2023) EndedAt: 2023-10-16 04:57:07 -0400 (Mon, 16 Oct 2023) EllapsedTime: 913.3 seconds RetCode: 0 Status: OK CheckDir: NormalyzerDE.Rcheck Warnings: 0