Package: NormalyzerDE Version: 1.18.1 Command: /Library/Frameworks/R.framework/Resources/bin/R CMD build --keep-empty-dirs --no-resave-data NormalyzerDE StartedAt: 2023-10-15 19:56:31 -0400 (Sun, 15 Oct 2023) EndedAt: 2023-10-15 20:00:57 -0400 (Sun, 15 Oct 2023) EllapsedTime: 265.4 seconds RetCode: 0 Status: OK PackageFile: NormalyzerDE_1.18.1.tar.gz PackageFileSize: 1.056 MiB