Package: NormalyzerDE Version: 1.18.1 Command: rm -rf NormalyzerDE.buildbin-libdir && mkdir NormalyzerDE.buildbin-libdir && /Users/biocbuild/BBS/utils/build-universal.sh NormalyzerDE_1.18.1.tar.gz /Library/Frameworks/R.framework/Resources/bin/R NormalyzerDE.buildbin-libdir StartedAt: 2023-10-16 09:50:41 -0400 (Mon, 16 Oct 2023) EndedAt: 2023-10-16 09:53:07 -0400 (Mon, 16 Oct 2023) EllapsedTime: 146.3 seconds RetCode: 0 Status: OK PackageFile: NormalyzerDE_1.18.1.tgz PackageFileSize: 1.299 MiB