Package: NoRCE Version: 1.12.0 Command: F:\biocbuild\bbs-3.17-bioc\R\bin\R.exe CMD INSTALL NoRCE StartedAt: 2023-10-15 16:19:04 -0400 (Sun, 15 Oct 2023) EndedAt: 2023-10-15 16:19:50 -0400 (Sun, 15 Oct 2023) EllapsedTime: 46.0 seconds RetCode: 0 Status: OK