Package: NoRCE Version: 1.12.0 Command: F:\biocbuild\bbs-3.17-bioc\R\bin\R.exe CMD check --no-multiarch --install=check:NoRCE.install-out.txt --library=F:\biocbuild\bbs-3.17-bioc\R\library --no-vignettes --timings NoRCE_1.12.0.tar.gz StartedAt: 2023-10-16 04:47:25 -0400 (Mon, 16 Oct 2023) EndedAt: 2023-10-16 04:51:35 -0400 (Mon, 16 Oct 2023) EllapsedTime: 249.9 seconds RetCode: 0 Status: OK CheckDir: NoRCE.Rcheck Warnings: 0