Package: NoRCE Version: 1.12.0 Command: rm -rf NoRCE.buildbin-libdir && mkdir NoRCE.buildbin-libdir && F:\biocbuild\bbs-3.17-bioc\R\bin\R.exe CMD INSTALL --build --library=NoRCE.buildbin-libdir NoRCE_1.12.0.tar.gz StartedAt: 2023-10-16 09:11:24 -0400 (Mon, 16 Oct 2023) EndedAt: 2023-10-16 09:12:13 -0400 (Mon, 16 Oct 2023) EllapsedTime: 49.6 seconds RetCode: 0 Status: OK PackageFile: NoRCE_1.12.0.zip PackageFileSize: 2.363 MiB