Package: NoRCE Version: 1.12.0 Command: /home/biocbuild/bbs-3.17-bioc/R/bin/R CMD build --keep-empty-dirs --no-resave-data NoRCE StartedAt: 2023-10-15 17:41:03 -0400 (Sun, 15 Oct 2023) EndedAt: 2023-10-15 17:42:14 -0400 (Sun, 15 Oct 2023) EllapsedTime: 70.6 seconds RetCode: 0 Status: OK PackageFile: NoRCE_1.12.0.tar.gz PackageFileSize: 2.025 MiB