Package: NoRCE Version: 1.12.0 Command: /Library/Frameworks/R.framework/Resources/bin/R CMD build --keep-empty-dirs --no-resave-data NoRCE StartedAt: 2023-10-15 19:55:50 -0400 (Sun, 15 Oct 2023) EndedAt: 2023-10-15 19:57:28 -0400 (Sun, 15 Oct 2023) EllapsedTime: 98.3 seconds RetCode: 0 Status: OK PackageFile: NoRCE_1.12.0.tar.gz PackageFileSize: 2.025 MiB