Package: NeuCA Version: 1.6.0 Command: chmod a+r NeuCA -R && F:\biocbuild\bbs-3.17-bioc\R\bin\R.exe CMD build --keep-empty-dirs --no-resave-data NeuCA StartedAt: 2023-10-15 20:52:09 -0400 (Sun, 15 Oct 2023) EndedAt: 2023-10-15 20:53:30 -0400 (Sun, 15 Oct 2023) EllapsedTime: 80.8 seconds RetCode: 0 Status: OK PackageFile: NeuCA_1.6.0.tar.gz PackageFileSize: 3.701 MiB