Package: NetActivity Version: 1.2.0 Command: rm -rf NetActivity.buildbin-libdir && mkdir NetActivity.buildbin-libdir && F:\biocbuild\bbs-3.17-bioc\R\bin\R.exe CMD INSTALL --build --library=NetActivity.buildbin-libdir NetActivity_1.2.0.tar.gz StartedAt: 2023-10-16 09:10:43 -0400 (Mon, 16 Oct 2023) EndedAt: 2023-10-16 09:11:11 -0400 (Mon, 16 Oct 2023) EllapsedTime: 27.6 seconds RetCode: 0 Status: OK PackageFile: NetActivity_1.2.0.zip PackageFileSize: 358.4 KiB