Package: NetActivity Version: 1.2.0 Command: /home/biocbuild/bbs-3.17-bioc/R/bin/R CMD check --install=check:NetActivity.install-out.txt --library=/home/biocbuild/bbs-3.17-bioc/R/site-library --timings NetActivity_1.2.0.tar.gz StartedAt: 2023-10-15 23:16:34 -0400 (Sun, 15 Oct 2023) EndedAt: 2023-10-15 23:20:21 -0400 (Sun, 15 Oct 2023) EllapsedTime: 226.9 seconds RetCode: 0 Status: OK CheckDir: NetActivity.Rcheck Warnings: 0