Package: NetActivity Version: 1.2.0 Command: /home/biocbuild/bbs-3.17-bioc/R/bin/R CMD build --keep-empty-dirs --no-resave-data NetActivity StartedAt: 2023-10-15 17:38:32 -0400 (Sun, 15 Oct 2023) EndedAt: 2023-10-15 17:39:28 -0400 (Sun, 15 Oct 2023) EllapsedTime: 56.2 seconds RetCode: 0 Status: OK PackageFile: NetActivity_1.2.0.tar.gz PackageFileSize: 408.5 KiB