Package: NetActivity Version: 1.2.0 Command: /Library/Frameworks/R.framework/Resources/bin/R CMD check --install=check:NetActivity.install-out.txt --library=/Library/Frameworks/R.framework/Resources/library --no-vignettes --timings NetActivity_1.2.0.tar.gz StartedAt: 2023-10-16 04:36:13 -0400 (Mon, 16 Oct 2023) EndedAt: 2023-10-16 04:44:35 -0400 (Mon, 16 Oct 2023) EllapsedTime: 502.7 seconds RetCode: 0 Status: OK CheckDir: NetActivity.Rcheck Warnings: 0