Package: NetActivity Version: 1.2.0 Command: /Library/Frameworks/R.framework/Resources/bin/R CMD build --keep-empty-dirs --no-resave-data NetActivity StartedAt: 2023-10-15 19:52:16 -0400 (Sun, 15 Oct 2023) EndedAt: 2023-10-15 19:54:28 -0400 (Sun, 15 Oct 2023) EllapsedTime: 132.3 seconds RetCode: 0 Status: OK PackageFile: NetActivity_1.2.0.tar.gz PackageFileSize: 418.9 KiB