Package: Nebulosa Version: 1.10.0 Command: /home/biocbuild/bbs-3.17-bioc/R/bin/R CMD INSTALL Nebulosa StartedAt: 2023-10-15 15:35:21 -0400 (Sun, 15 Oct 2023) EndedAt: 2023-10-15 15:35:51 -0400 (Sun, 15 Oct 2023) EllapsedTime: 29.9 seconds RetCode: 0 Status: OK