Package: Nebulosa Version: 1.10.0 Command: /Library/Frameworks/R.framework/Resources/bin/R CMD check --install=check:Nebulosa.install-out.txt --library=/Library/Frameworks/R.framework/Resources/library --no-vignettes --timings Nebulosa_1.10.0.tar.gz StartedAt: 2023-10-16 04:35:26 -0400 (Mon, 16 Oct 2023) EndedAt: 2023-10-16 04:44:07 -0400 (Mon, 16 Oct 2023) EllapsedTime: 520.5 seconds RetCode: 0 Status: OK CheckDir: Nebulosa.Rcheck Warnings: 0