Package: Nebulosa Version: 1.10.0 Command: /Library/Frameworks/R.framework/Resources/bin/R CMD build --keep-empty-dirs --no-resave-data Nebulosa StartedAt: 2023-10-15 19:52:07 -0400 (Sun, 15 Oct 2023) EndedAt: 2023-10-15 19:58:37 -0400 (Sun, 15 Oct 2023) EllapsedTime: 390.8 seconds RetCode: 0 Status: OK PackageFile: Nebulosa_1.10.0.tar.gz PackageFileSize: 2.323 MiB