Package: NanoTube Version: 1.6.0 Command: F:\biocbuild\bbs-3.17-bioc\R\bin\R.exe CMD check --no-multiarch --install=check:NanoTube.install-out.txt --library=F:\biocbuild\bbs-3.17-bioc\R\library --no-vignettes --timings NanoTube_1.6.0.tar.gz StartedAt: 2023-10-16 04:40:46 -0400 (Mon, 16 Oct 2023) EndedAt: 2023-10-16 04:44:02 -0400 (Mon, 16 Oct 2023) EllapsedTime: 196.0 seconds RetCode: 0 Status: OK CheckDir: NanoTube.Rcheck Warnings: 0