Package: NanoTube Version: 1.6.0 Command: rm -rf NanoTube.buildbin-libdir && mkdir NanoTube.buildbin-libdir && F:\biocbuild\bbs-3.17-bioc\R\bin\R.exe CMD INSTALL --build --library=NanoTube.buildbin-libdir NanoTube_1.6.0.tar.gz StartedAt: 2023-10-16 09:10:21 -0400 (Mon, 16 Oct 2023) EndedAt: 2023-10-16 09:10:38 -0400 (Mon, 16 Oct 2023) EllapsedTime: 17.3 seconds RetCode: 0 Status: OK PackageFile: NanoTube_1.6.0.zip PackageFileSize: 1.896 MiB