Package: NanoStringNCTools Version: 1.8.0 Command: chmod a+r NanoStringNCTools -R && F:\biocbuild\bbs-3.17-bioc\R\bin\R.exe CMD build --keep-empty-dirs --no-resave-data NanoStringNCTools StartedAt: 2023-10-15 20:47:59 -0400 (Sun, 15 Oct 2023) EndedAt: 2023-10-15 20:48:36 -0400 (Sun, 15 Oct 2023) EllapsedTime: 37.1 seconds RetCode: 0 Status: OK PackageFile: NanoStringNCTools_1.8.0.tar.gz PackageFileSize: 256.3 KiB