Package: NanoStringNCTools Version: 1.8.0 Command: rm -rf NanoStringNCTools.buildbin-libdir && mkdir NanoStringNCTools.buildbin-libdir && F:\biocbuild\bbs-3.17-bioc\R\bin\R.exe CMD INSTALL --build --library=NanoStringNCTools.buildbin-libdir NanoStringNCTools_1.8.0.tar.gz StartedAt: 2023-10-16 09:10:02 -0400 (Mon, 16 Oct 2023) EndedAt: 2023-10-16 09:10:33 -0400 (Mon, 16 Oct 2023) EllapsedTime: 31.4 seconds RetCode: 0 Status: OK PackageFile: NanoStringNCTools_1.8.0.zip PackageFileSize: 904.6 KiB