Package: NanoStringNCTools Version: 1.8.0 Command: /home/biocbuild/bbs-3.17-bioc/R/bin/R CMD INSTALL NanoStringNCTools StartedAt: 2023-10-15 15:26:02 -0400 (Sun, 15 Oct 2023) EndedAt: 2023-10-15 15:26:19 -0400 (Sun, 15 Oct 2023) EllapsedTime: 17.2 seconds RetCode: 0 Status: OK