Package: NanoStringNCTools Version: 1.8.0 Command: /Library/Frameworks/R.framework/Resources/bin/R CMD build --keep-empty-dirs --no-resave-data NanoStringNCTools StartedAt: 2023-10-15 19:50:38 -0400 (Sun, 15 Oct 2023) EndedAt: 2023-10-15 19:51:50 -0400 (Sun, 15 Oct 2023) EllapsedTime: 71.1 seconds RetCode: 0 Status: OK PackageFile: NanoStringNCTools_1.8.0.tar.gz PackageFileSize: 352.2 KiB