Package: NanoStringDiff Version: 1.30.0 Command: /home/biocbuild/bbs-3.17-bioc/R/bin/R CMD build --keep-empty-dirs --no-resave-data NanoStringDiff StartedAt: 2023-10-15 17:37:41 -0400 (Sun, 15 Oct 2023) EndedAt: 2023-10-15 17:38:01 -0400 (Sun, 15 Oct 2023) EllapsedTime: 20.5 seconds RetCode: 0 Status: OK PackageFile: NanoStringDiff_1.30.0.tar.gz PackageFileSize: 277.4 KiB