Package: NanoStringDiff Version: 1.30.0 Command: /Library/Frameworks/R.framework/Resources/bin/R CMD build --keep-empty-dirs --no-resave-data NanoStringDiff StartedAt: 2023-10-15 19:50:26 -0400 (Sun, 15 Oct 2023) EndedAt: 2023-10-15 19:51:20 -0400 (Sun, 15 Oct 2023) EllapsedTime: 54.0 seconds RetCode: 0 Status: OK PackageFile: NanoStringDiff_1.30.0.tar.gz PackageFileSize: 416.4 KiB