Package: NTW Version: 1.50.0 Command: F:\biocbuild\bbs-3.17-bioc\R\bin\R.exe CMD check --no-multiarch --install=check:NTW.install-out.txt --library=F:\biocbuild\bbs-3.17-bioc\R\library --no-vignettes --timings NTW_1.50.0.tar.gz StartedAt: 2023-10-16 04:49:32 -0400 (Mon, 16 Oct 2023) EndedAt: 2023-10-16 04:50:02 -0400 (Mon, 16 Oct 2023) EllapsedTime: 29.9 seconds RetCode: 0 Status: WARNINGS CheckDir: NTW.Rcheck Warnings: 1