Package: NTW Version: 1.50.0 Command: rm -rf NTW.buildbin-libdir && mkdir NTW.buildbin-libdir && F:\biocbuild\bbs-3.17-bioc\R\bin\R.exe CMD INSTALL --build --library=NTW.buildbin-libdir NTW_1.50.0.tar.gz StartedAt: 2023-10-16 09:11:40 -0400 (Mon, 16 Oct 2023) EndedAt: 2023-10-16 09:11:53 -0400 (Mon, 16 Oct 2023) EllapsedTime: 12.9 seconds RetCode: 0 Status: OK PackageFile: NTW_1.50.0.zip PackageFileSize: 501.7 KiB