Package: NTW Version: 1.50.0 Command: /home/biocbuild/bbs-3.17-bioc/R/bin/R CMD check --install=check:NTW.install-out.txt --library=/home/biocbuild/bbs-3.17-bioc/R/site-library --timings NTW_1.50.0.tar.gz StartedAt: 2023-10-15 23:22:26 -0400 (Sun, 15 Oct 2023) EndedAt: 2023-10-15 23:22:58 -0400 (Sun, 15 Oct 2023) EllapsedTime: 32.0 seconds RetCode: 0 Status: WARNINGS CheckDir: NTW.Rcheck Warnings: 1