Package: NPARC Version: 1.12.0 Command: /Library/Frameworks/R.framework/Resources/bin/R CMD build --keep-empty-dirs --no-resave-data NPARC StartedAt: 2023-10-15 19:56:52 -0400 (Sun, 15 Oct 2023) EndedAt: 2023-10-15 20:06:49 -0400 (Sun, 15 Oct 2023) EllapsedTime: 596.8 seconds RetCode: 0 Status: OK PackageFile: NPARC_1.12.0.tar.gz PackageFileSize: 2.222 MiB