Package: NBSplice Version: 1.18.0 Command: /Library/Frameworks/R.framework/Resources/bin/R CMD build --keep-empty-dirs --no-resave-data NBSplice StartedAt: 2023-10-15 19:51:20 -0400 (Sun, 15 Oct 2023) EndedAt: 2023-10-15 19:51:22 -0400 (Sun, 15 Oct 2023) EllapsedTime: 2.1 seconds RetCode: 1 Status: ERROR PackageFile: None PackageFileSize: NA