Package: NBAMSeq Version: 1.16.0 Command: F:\biocbuild\bbs-3.17-bioc\R\bin\R.exe CMD check --no-multiarch --install=check:NBAMSeq.install-out.txt --library=F:\biocbuild\bbs-3.17-bioc\R\library --no-vignettes --timings NBAMSeq_1.16.0.tar.gz StartedAt: 2023-10-16 04:40:56 -0400 (Mon, 16 Oct 2023) EndedAt: 2023-10-16 04:44:01 -0400 (Mon, 16 Oct 2023) EllapsedTime: 185.0 seconds RetCode: 0 Status: OK CheckDir: NBAMSeq.Rcheck Warnings: 0