Package: NADfinder Version: 1.24.0 Command: rm -rf NADfinder.buildbin-libdir && mkdir NADfinder.buildbin-libdir && F:\biocbuild\bbs-3.17-bioc\R\bin\R.exe CMD INSTALL --build --library=NADfinder.buildbin-libdir NADfinder_1.24.0.tar.gz StartedAt: 2023-10-16 09:09:55 -0400 (Mon, 16 Oct 2023) EndedAt: 2023-10-16 09:11:24 -0400 (Mon, 16 Oct 2023) EllapsedTime: 88.3 seconds RetCode: 0 Status: OK PackageFile: NADfinder_1.24.0.zip PackageFileSize: 6.133 MiB