Package: MutationalPatterns Version: 3.10.0 Command: /Library/Frameworks/R.framework/Resources/bin/R CMD INSTALL MutationalPatterns StartedAt: 2023-10-15 15:39:23 -0400 (Sun, 15 Oct 2023) EndedAt: 2023-10-15 15:40:29 -0400 (Sun, 15 Oct 2023) EllapsedTime: 65.6 seconds RetCode: 0 Status: OK