Package: MutationalPatterns Version: 3.10.0 Command: /Library/Frameworks/R.framework/Resources/bin/R CMD build --keep-empty-dirs --no-resave-data MutationalPatterns StartedAt: 2023-10-15 19:49:15 -0400 (Sun, 15 Oct 2023) EndedAt: 2023-10-15 19:54:40 -0400 (Sun, 15 Oct 2023) EllapsedTime: 325.1 seconds RetCode: 1 Status: ERROR PackageFile: None PackageFileSize: NA