Package: MungeSumstats Version: 1.8.0 Command: F:\biocbuild\bbs-3.17-bioc\R\bin\R.exe CMD check --no-multiarch --install=check:MungeSumstats.install-out.txt --library=F:\biocbuild\bbs-3.17-bioc\R\library --no-vignettes --timings MungeSumstats_1.8.0.tar.gz StartedAt: 2023-10-16 04:34:45 -0400 (Mon, 16 Oct 2023) EndedAt: 2023-10-16 04:53:42 -0400 (Mon, 16 Oct 2023) EllapsedTime: 1137.6 seconds RetCode: 0 Status: OK CheckDir: MungeSumstats.Rcheck Warnings: 0