Package: MungeSumstats Version: 1.8.0 Command: /home/biocbuild/bbs-3.17-bioc/R/bin/R CMD INSTALL MungeSumstats StartedAt: 2023-10-15 15:23:46 -0400 (Sun, 15 Oct 2023) EndedAt: 2023-10-15 15:24:29 -0400 (Sun, 15 Oct 2023) EllapsedTime: 43.8 seconds RetCode: 0 Status: OK