Package: MungeSumstats Version: 1.8.0 Command: /home/biocbuild/bbs-3.17-bioc/R/bin/R CMD check --install=check:MungeSumstats.install-out.txt --library=/home/biocbuild/bbs-3.17-bioc/R/site-library --timings MungeSumstats_1.8.0.tar.gz StartedAt: 2023-10-15 23:11:50 -0400 (Sun, 15 Oct 2023) EndedAt: 2023-10-15 23:29:18 -0400 (Sun, 15 Oct 2023) EllapsedTime: 1047.9 seconds RetCode: 1 Status: ERROR CheckDir: MungeSumstats.Rcheck Warnings: NA