Package: MungeSumstats Version: 1.8.0 Command: /Library/Frameworks/R.framework/Resources/bin/R CMD check --install=check:MungeSumstats.install-out.txt --library=/Library/Frameworks/R.framework/Resources/library --no-vignettes --timings MungeSumstats_1.8.0.tar.gz StartedAt: 2023-10-16 04:29:35 -0400 (Mon, 16 Oct 2023) EndedAt: 2023-10-16 04:54:13 -0400 (Mon, 16 Oct 2023) EllapsedTime: 1478.0 seconds RetCode: 0 Status: OK CheckDir: MungeSumstats.Rcheck Warnings: 0