Package: MungeSumstats Version: 1.8.0 Command: /Library/Frameworks/R.framework/Resources/bin/R CMD build --keep-empty-dirs --no-resave-data MungeSumstats StartedAt: 2023-10-15 19:48:44 -0400 (Sun, 15 Oct 2023) EndedAt: 2023-10-15 19:51:18 -0400 (Sun, 15 Oct 2023) EllapsedTime: 154.2 seconds RetCode: 0 Status: OK PackageFile: MungeSumstats_1.8.0.tar.gz PackageFileSize: 1.824 MiB