Package: MultiMed Version: 2.22.0 Command: rm -rf MultiMed.buildbin-libdir && mkdir MultiMed.buildbin-libdir && F:\biocbuild\bbs-3.17-bioc\R\bin\R.exe CMD INSTALL --build --library=MultiMed.buildbin-libdir MultiMed_2.22.0.tar.gz StartedAt: 2023-10-16 09:09:11 -0400 (Mon, 16 Oct 2023) EndedAt: 2023-10-16 09:09:15 -0400 (Mon, 16 Oct 2023) EllapsedTime: 3.4 seconds RetCode: 0 Status: OK PackageFile: MultiMed_2.22.0.zip PackageFileSize: 447.8 KiB