Package: MultiMed Version: 2.22.0 Command: /home/biocbuild/bbs-3.17-bioc/R/bin/R CMD check --install=check:MultiMed.install-out.txt --library=/home/biocbuild/bbs-3.17-bioc/R/site-library --timings MultiMed_2.22.0.tar.gz StartedAt: 2023-10-15 23:10:18 -0400 (Sun, 15 Oct 2023) EndedAt: 2023-10-15 23:10:39 -0400 (Sun, 15 Oct 2023) EllapsedTime: 21.6 seconds RetCode: 0 Status: OK CheckDir: MultiMed.Rcheck Warnings: 0