Package: MultiMed Version: 2.22.0 Command: /home/biocbuild/bbs-3.17-bioc/R/bin/R CMD build --keep-empty-dirs --no-resave-data MultiMed StartedAt: 2023-10-15 17:36:11 -0400 (Sun, 15 Oct 2023) EndedAt: 2023-10-15 17:36:18 -0400 (Sun, 15 Oct 2023) EllapsedTime: 6.6 seconds RetCode: 0 Status: OK PackageFile: MultiMed_2.22.0.tar.gz PackageFileSize: 425.1 KiB