Package: MultiMed Version: 2.22.0 Command: rm -rf MultiMed.buildbin-libdir && mkdir MultiMed.buildbin-libdir && /Users/biocbuild/BBS/utils/build-universal.sh MultiMed_2.22.0.tar.gz /Library/Frameworks/R.framework/Resources/bin/R MultiMed.buildbin-libdir StartedAt: 2023-10-16 09:48:11 -0400 (Mon, 16 Oct 2023) EndedAt: 2023-10-16 09:48:17 -0400 (Mon, 16 Oct 2023) EllapsedTime: 6.5 seconds RetCode: 0 Status: OK PackageFile: MultiMed_2.22.0.tgz PackageFileSize: 525.4 KiB