git_url: https://git.bioconductor.org/packages/MultiMed git_branch: RELEASE_3_17 git_last_commit: c95d0c8 git_last_commit_date: 2023-04-25 10:33:14 -0400 (Tue, 25 Apr 2023) Package: MultiMed Version: 2.22.0 Maintainer: Simina M. Boca MaintainerEmail: smb310 at georgetown.edu