Package: MultiDataSet Version: 1.28.0 Command: F:\biocbuild\bbs-3.17-bioc\R\bin\R.exe CMD check --no-multiarch --install=check:MultiDataSet.install-out.txt --library=F:\biocbuild\bbs-3.17-bioc\R\library --no-vignettes --timings MultiDataSet_1.28.0.tar.gz StartedAt: 2023-10-16 04:32:46 -0400 (Mon, 16 Oct 2023) EndedAt: 2023-10-16 04:35:23 -0400 (Mon, 16 Oct 2023) EllapsedTime: 157.3 seconds RetCode: 0 Status: WARNINGS CheckDir: MultiDataSet.Rcheck Warnings: 1