Package: MultiDataSet Version: 1.28.0 Command: rm -rf MultiDataSet.buildbin-libdir && mkdir MultiDataSet.buildbin-libdir && F:\biocbuild\bbs-3.17-bioc\R\bin\R.exe CMD INSTALL --build --library=MultiDataSet.buildbin-libdir MultiDataSet_1.28.0.tar.gz StartedAt: 2023-10-16 09:09:06 -0400 (Mon, 16 Oct 2023) EndedAt: 2023-10-16 09:09:38 -0400 (Mon, 16 Oct 2023) EllapsedTime: 32.4 seconds RetCode: 0 Status: OK PackageFile: MultiDataSet_1.28.0.zip PackageFileSize: 865.3 KiB