Package: MultiDataSet Version: 1.28.0 Command: /home/biocbuild/bbs-3.17-bioc/R/bin/R CMD INSTALL MultiDataSet StartedAt: 2023-10-15 15:15:14 -0400 (Sun, 15 Oct 2023) EndedAt: 2023-10-15 15:15:35 -0400 (Sun, 15 Oct 2023) EllapsedTime: 20.9 seconds RetCode: 0 Status: OK