Package: MultiBaC Version: 1.10.0 Command: /Library/Frameworks/R.framework/Resources/bin/R CMD INSTALL MultiBaC StartedAt: 2023-10-15 16:16:49 -0400 (Sun, 15 Oct 2023) EndedAt: 2023-10-15 16:17:03 -0400 (Sun, 15 Oct 2023) EllapsedTime: 14.2 seconds RetCode: 0 Status: OK