Package: MultiBaC Version: 1.10.0 Command: /Library/Frameworks/R.framework/Resources/bin/R CMD check --install=check:MultiBaC.install-out.txt --library=/Library/Frameworks/R.framework/Resources/library --no-vignettes --timings MultiBaC_1.10.0.tar.gz StartedAt: 2023-10-16 04:25:40 -0400 (Mon, 16 Oct 2023) EndedAt: 2023-10-16 04:30:00 -0400 (Mon, 16 Oct 2023) EllapsedTime: 260.1 seconds RetCode: 0 Status: OK CheckDir: MultiBaC.Rcheck Warnings: 0